BEGIN:VCALENDAR
VERSION:2.0
PRODID:-//ChamberMaster//Event Calendar 2.0//EN
METHOD:PUBLISH
X-PUBLISHED-TTL:P3D
REFRESH-INTERVAL:P3D
CALSCALE:GREGORIAN
BEGIN:VEVENT
DTSTART:20171115T193000Z
DTEND:20171115T223000Z
X-MICROSOFT-CDO-ALLDAYEVENT:FALSE
SUMMARY:Coastline Community College Career Fair Fall 2017
DESCRIPTION:The Career Center at Coastline Community College has a wonderful opportunity for your business/organization to participate in the Coastline Community College Career Fair at Newport Beach Center being held on November 15\, 2017. \n\n\n\nThis event is FREE to employers! The purpose of the career fair is to connect employers with students. Employers may interview and recruit students for job\, internship\, or volunteer opportunities. \n\n\n\nFurthermore\, you can promote your business/organization and provide students more information about your industry for career exploration.
X-ALT-DESC;FMTTYPE=text/html:The Career Center at Coastline Community College has a wonderful opportunity for your&nbsp\;business/organization to participate in the Coastline Community College Career Fair at&nbsp\;Newport Beach Center being held on November 15\, 2017.&nbsp\;<br />\n<br />\nThis event is FREE to employers! The purpose of the career fair is to connect employers with students. Employers may interview and recruit students for job\, internship\, or&nbsp\;volunteer opportunities.&nbsp\;<br />\n<br />\nFurthermore\, you can promote your business/organization and provide students more information about your industry for career exploration.&nbsp\;
LOCATION:Newport Beach Center 1515 Monrovia Avenue Newport Beach\, CA 92663
UID:e.1315.6240
SEQUENCE:3
DTSTAMP:20260419T180427Z
URL:http://business.gardengrovechamber.com/events/details/coastline-community-college-career-fair-fall-2017-6240
END:VEVENT

END:VCALENDAR
