BEGIN:VCALENDAR
VERSION:2.0
PRODID:-//ChamberMaster//Event Calendar 2.0//EN
METHOD:PUBLISH
X-PUBLISHED-TTL:P3D
REFRESH-INTERVAL:P3D
CALSCALE:GREGORIAN
BEGIN:VEVENT
DTSTART:20150611T170000Z
DTEND:20150611T180000Z
X-MICROSOFT-CDO-ALLDAYEVENT:FALSE
SUMMARY:Community Affairs Committee Meeting
DESCRIPTION:Community Affairs Committee Meetings
X-ALT-DESC;FMTTYPE=text/html:Community Affairs Committee Meetings
LOCATION:Garden Grove Chamber of Commerce 12866 Main Street\, Suite 102 Garden Grove\, CA 92840
UID:e.1315.2091
SEQUENCE:3
DTSTAMP:20260423T204608Z
URL:http://business.gardengrovechamber.com/events/details/community-affairs-committee-meeting-06-11-2015-2091
END:VEVENT

END:VCALENDAR
