BEGIN:VCALENDAR
VERSION:2.0
PRODID:-//ChamberMaster//Event Calendar 2.0//EN
METHOD:PUBLISH
X-PUBLISHED-TTL:P3D
REFRESH-INTERVAL:P3D
CALSCALE:GREGORIAN
BEGIN:VEVENT
DTSTART:20130620T160000Z
DTEND:20130620T170000Z
X-MICROSOFT-CDO-ALLDAYEVENT:FALSE
SUMMARY:Community Affairs Committee Meeting
DESCRIPTION:Community Affairs Committee Meeting
X-ALT-DESC;FMTTYPE=text/html:Community Affairs Committee Meeting<br />\n
LOCATION:GG Chamber Office 12866 Main St. #102 Garden Grove\, CA 92840
UID:e.1315.714
SEQUENCE:3
DTSTAMP:20260425T103601Z
URL:http://business.gardengrovechamber.com/events/details/community-affairs-committee-meeting-06-20-2013-714
END:VEVENT

END:VCALENDAR
