BEGIN:VCALENDAR
VERSION:2.0
PRODID:-//ChamberMaster//Event Calendar 2.0//EN
METHOD:PUBLISH
X-PUBLISHED-TTL:P3D
REFRESH-INTERVAL:P3D
CALSCALE:GREGORIAN
BEGIN:VEVENT
DTSTART:20120724T161500Z
DTEND:20120724T171500Z
X-MICROSOFT-CDO-ALLDAYEVENT:FALSE
SUMMARY:Community Affairs Committee meeting
DESCRIPTION:
X-ALT-DESC;FMTTYPE=text/html:
LOCATION:GG Chamber Office 12866 Main St. #102
UID:e.1315.318
SEQUENCE:3
DTSTAMP:20260426T042841Z
URL:http://business.gardengrovechamber.com/events/details/community-affairs-committee-meeting-07-24-2012-318
END:VEVENT

END:VCALENDAR
