BEGIN:VCALENDAR
VERSION:2.0
PRODID:-//ChamberMaster//Event Calendar 2.0//EN
METHOD:PUBLISH
X-PUBLISHED-TTL:P3D
REFRESH-INTERVAL:P3D
CALSCALE:GREGORIAN
BEGIN:VEVENT
DTSTART:20160408T170000Z
DTEND:20160409T010000Z
X-MICROSOFT-CDO-ALLDAYEVENT:FALSE
SUMMARY:Community Appreciation Day at Pro Sports-med Chiropractic
DESCRIPTION:It is with great excitement that Dr. Robb Rattray and his staff celebrate their 25th Anniversary by showing their appreciation to the patients and community.
X-ALT-DESC;FMTTYPE=text/html:It is with great excitement that Dr. Robb Rattray and his staff celebrate their 25th Anniversary by showing their appreciation to the patients and community.
LOCATION:Pro Sports-med Chiropractic 12062 Valley View Street\, Suite 133 Garden Grove\, CA 92845
UID:e.1315.5118
SEQUENCE:3
DTSTAMP:20260420T231838Z
URL:http://business.gardengrovechamber.com/events/details/community-appreciation-day-at-pro-sports-med-chiropractic-04-08-2016-5118
END:VEVENT

END:VCALENDAR
