BEGIN:VCALENDAR
VERSION:2.0
PRODID:-//ChamberMaster//Event Calendar 2.0//EN
METHOD:PUBLISH
X-PUBLISHED-TTL:P3D
REFRESH-INTERVAL:P3D
CALSCALE:GREGORIAN
BEGIN:VEVENT
DTSTART:20131005T190000Z
DTEND:20131104T200000Z
X-MICROSOFT-CDO-ALLDAYEVENT:FALSE
SUMMARY:Community Christmas Tree Ornament Sponsor
DESCRIPTION:Picture your name or company logo on an ornament adorning Garden Grove?s Community Christmas Tree! Your family or business can enjoy having a personalized part of this very special holiday event with the purchase of an oversized ornament\, pictured here. The tree will illuminate the Clock Tower throughout the holiday season.
X-ALT-DESC;FMTTYPE=text/html:Picture your name or company logo on an ornament adorning Garden Grove?s Community Christmas Tree! Your family or business can enjoy having a personalized part of this very special holiday event with the purchase of an oversized ornament\, pictured here. The tree will illuminate the Clock Tower throughout the holiday season.
LOCATION:Garden Grove Clock Tower
UID:e.1315.1190
SEQUENCE:3
DTSTAMP:20260425T015117Z
URL:http://business.gardengrovechamber.com/events/details/community-christmas-tree-ornament-sponsor-10-05-2013-1190
END:VEVENT

END:VCALENDAR
