BEGIN:VCALENDAR
VERSION:2.0
PRODID:-//ChamberMaster//Event Calendar 2.0//EN
METHOD:PUBLISH
X-PUBLISHED-TTL:P3D
REFRESH-INTERVAL:P3D
CALSCALE:GREGORIAN
BEGIN:VEVENT
DTSTART:20151022T003000Z
DTEND:20151022T013000Z
X-MICROSOFT-CDO-ALLDAYEVENT:FALSE
SUMMARY:Concorde Career College's Mixer & Ribbon Cutting Ceremony
DESCRIPTION:Join us as we welcome Concorde Career College to the Garden Grove Chamber of Commerce. Refreshments will be provided. Please be sure to RSVP!
X-ALT-DESC;FMTTYPE=text/html:Join us as we welcome Concorde Career College to the Garden Grove Chamber of Commerce. Refreshments will be provided. Please be sure to RSVP!
LOCATION:12951 Euclid Street Garden Grove\, CA 92840
UID:e.1315.3557
SEQUENCE:3
DTSTAMP:20260423T150912Z
URL:http://business.gardengrovechamber.com/events/details/concorde-career-college-s-mixer-ribbon-cutting-ceremony-10-21-2015-3557
END:VEVENT

END:VCALENDAR
