BEGIN:VCALENDAR
VERSION:2.0
PRODID:-//ChamberMaster//Event Calendar 2.0//EN
METHOD:PUBLISH
X-PUBLISHED-TTL:P3D
REFRESH-INTERVAL:P3D
CALSCALE:GREGORIAN
BEGIN:VEVENT
DTSTART:20160813T010000Z
DTEND:20160813T030000Z
X-MICROSOFT-CDO-ALLDAYEVENT:FALSE
SUMMARY:Creme de la King Elvis Singing Competition
DESCRIPTION:Qualifying rounds for Creme de la King karaoke style Elvis singing competition will be held in conjunction with the Friday Night Car Shows on Historic Main Street every Friday in August. Those who sing\, act and look like the King of Rock and Roll may enter the contest. Sign ups each Friday are from 4:30 p.m. to 6 p.m. with singing starting shortly thereafter. Finalists selected at each qualifying round will compete at the 17th Annual Elvis Festival also on Historic Main Street Sunday\, August 28. Presented by the Garden Grove Downtown Business Association
X-ALT-DESC;FMTTYPE=text/html:Qualifying rounds for Creme de la King karaoke style Elvis singing competition will be held in conjunction with the Friday Night Car Shows on Historic Main Street every Friday in August. Those who sing\, act and look like the King of Rock and Roll may enter the contest. Sign ups each Friday are from 4:30 p.m. to 6 p.m. with singing starting shortly thereafter. Finalists selected at each qualifying round will compete at the 17th Annual Elvis Festival also on Historic Main Street Sunday\, August 28. Presented by the Garden Grove Downtown Business Association
LOCATION:Historic Main Street\, Garden Grove
UID:e.1315.5961
SEQUENCE:3
DTSTAMP:20260420T164846Z
URL:http://business.gardengrovechamber.com/events/details/creme-de-la-king-elvis-singing-competition-08-12-2016-5961
END:VEVENT

END:VCALENDAR
