BEGIN:VCALENDAR
VERSION:2.0
PRODID:-//ChamberMaster//Event Calendar 2.0//EN
METHOD:PUBLISH
X-PUBLISHED-TTL:P3D
REFRESH-INTERVAL:P3D
CALSCALE:GREGORIAN
BEGIN:VEVENT
DTSTART:20131208T170000Z
DTEND:20131208T230000Z
X-MICROSOFT-CDO-ALLDAYEVENT:FALSE
SUMMARY:Customer Appreciation Day
DESCRIPTION:West County Tire & Automotive invites you to their "Customer Appreciation Day".  You can meet and greet drag racing legend Tom "The Mongoose" McEwen.  Tom and his friends will be displaying their nostalgia drag racing cards as featured in the movie Snake and Mongoose.\n\n\n\nGreat networking opportunity and while enjoying some great food\, drinks\, music and raffle prizes.
X-ALT-DESC;FMTTYPE=text/html:West County Tire &amp\; Automotive invites you to their &quot\;Customer Appreciation Day&quot\;. &nbsp\;You can meet and greet drag racing legend Tom &quot\;The Mongoose&quot\;&nbsp\;McEwen. &nbsp\;Tom and his friends will be displaying their nostalgia drag racing cards as featured in the movie <em>Snake and Mongoose.</em><br />\n<br />\nGreat networking opportunity and while enjoying some great food\, drinks\, music and raffle prizes.
LOCATION:West County Tire & Automotive 421 W. Chapman Avenue Anaheim\, CA 92802
UID:e.1315.1318
SEQUENCE:3
DTSTAMP:20260425T001130Z
URL:http://business.gardengrovechamber.com/events/details/customer-appreciation-day-12-08-2013-1318
END:VEVENT

END:VCALENDAR
