BEGIN:VCALENDAR
VERSION:2.0
PRODID:-//ChamberMaster//Event Calendar 2.0//EN
METHOD:PUBLISH
X-PUBLISHED-TTL:P3D
REFRESH-INTERVAL:P3D
CALSCALE:GREGORIAN
BEGIN:VEVENT
DTSTART:20140605T190000Z
DTEND:20140605T200000Z
X-MICROSOFT-CDO-ALLDAYEVENT:FALSE
SUMMARY:Cyber Security Workshop
DESCRIPTION:Come enjoy lunch and learn about Cyber Security at this informative workshop.\n\n\n\nProtect your business from cyber threats\, computer hackers\, and online threats.\n\n\n\n       Do you process credit cards? \n\n       Do you have social media in your marketing plan? \n\n       Do you use mobile devices like smart phones and tablets?\n\n       Considering "Cloud Computing"?\n\n\n\nIf you said yes to any of these questions you won't want to miss this informative session on how to protect your digital assets and keep your business open.  Our presenter is Donald Hester\, a recognized expert in the field of Cyber Security. What you don't know can hurt your business.\n\n\n\nNOTE:  Come early to get your parking pass.
X-ALT-DESC;FMTTYPE=text/html:<span style="font-size:14px\;"><span style="font-family:times new roman\;">Come enjoy lunch and learn about Cyber Security at this informative workshop.<br />\n<br />\nProtect your business from cyber threats\, computer hackers\, and online threats.<br />\n<br />\n&nbsp\; &nbsp\; &nbsp\; &nbsp\;<em>Do you process credit cards?&nbsp\;<br />\n&nbsp\; &nbsp\; &nbsp\; &nbsp\;Do you have social media in your marketing plan?&nbsp\;<br />\n&nbsp\; &nbsp\; &nbsp\; &nbsp\;Do you use mobile devices like smart phones and tablets?<br />\n&nbsp\; &nbsp\; &nbsp\; &nbsp\;Considering &quot\;Cloud Computing&quot\;?</em><br />\n<br />\nIf you said yes to any of these questions you won&rsquo\;t want to miss this informative session on how to protect your digital assets and keep your business open. &nbsp\;Our presenter is Donald Hester\, a recognized expert in the field of Cyber Security. What you don&rsquo\;t know can hurt your business.<br />\n<br />\nNOTE: &nbsp\;Come early to get your parking pass.</span></span>
LOCATION:Coastline Community College 12901 Euclid Street Garden Grove\, CA 92840
UID:e.1315.1755
SEQUENCE:3
DTSTAMP:20260424T142327Z
URL:http://business.gardengrovechamber.com/events/details/cyber-security-workshop-06-05-2014-1755
END:VEVENT

END:VCALENDAR
