BEGIN:VCALENDAR
VERSION:2.0
PRODID:-//ChamberMaster//Event Calendar 2.0//EN
METHOD:PUBLISH
X-PUBLISHED-TTL:P3D
REFRESH-INTERVAL:P3D
CALSCALE:GREGORIAN
BEGIN:VEVENT
DTSTART;VALUE=DATE:20170408
DTEND;VALUE=DATE:20170409
TRANSP:TRANSPARENT
X-MICROSOFT-CDO-ALLDAYEVENT:TRUE
SUMMARY:Deadline to Help Thomas House Family Shelter
DESCRIPTION:Join Miss Garden Grove Organization as they collect items for the homeless in Garden Grove. \n\n\n\nIn honor of Miss America Serves Day\, Miss Garden Grove has partnered with Thomas House Family Shelter in Garden Grove to help the homeless in our community.
X-ALT-DESC;FMTTYPE=text/html:Join Miss Garden Grove Organization as they collect items for the homeless in Garden Grove.&nbsp\;<br />\n<br />\nIn honor of Miss America Serves Day\, Miss Garden Grove has partnered with Thomas House Family Shelter in Garden Grove to help the homeless in our community.&nbsp\;
LOCATION:
UID:e.1315.6132
SEQUENCE:3
DTSTAMP:20260420T043945Z
URL:http://business.gardengrovechamber.com/events/details/deadline-to-help-thomas-house-family-shelter-6132
END:VEVENT

END:VCALENDAR
