BEGIN:VCALENDAR
VERSION:2.0
PRODID:-//ChamberMaster//Event Calendar 2.0//EN
METHOD:PUBLISH
X-PUBLISHED-TTL:P3D
REFRESH-INTERVAL:P3D
CALSCALE:GREGORIAN
BEGIN:VEVENT
DTSTART:20151112T213000Z
DTEND:20151112T223000Z
X-MICROSOFT-CDO-ALLDAYEVENT:FALSE
SUMMARY:Diane Harkey - Telephone Townhall Meeting
DESCRIPTION:Board of Equalization member Diane Harkey is teaming up with established legislative leaders Assembly Member Young Kim and Assembly Member Ling Ling Chang from the California State Legislature\, and key partner organizations to better educate and prepare business owners\, homeowners and renters regarding the history\, the impact & the myths surrounding Proposition 13 as well as proposed legislative changes and what you can do to stay informed and participate in the political process to protect your interests. \n\n \n\nYour rent and property taxes may be increasing.  Learn how the proposed changes to Proposition 13 may affect you.
X-ALT-DESC;FMTTYPE=text/html:<span style="color:windowtext\;">Board of Equalization member Diane Harkey is&nbsp\;teaming up with </span>established legislative leaders <strong>Assembly Member Young Kim</strong> and <strong>Assembly Member Ling Ling Chang</strong> from the California State Legislature\, and key partner organizations to better educate and prepare business owners\, homeowners and renters regarding the history\, the impact &amp\; the myths surrounding Proposition 13 as well as proposed legislative changes and what you can do to stay informed and participate in the political process to protect your interests<span style="color:windowtext\;">. </span><br />\n&nbsp\;<br />\n<span style="color:windowtext\;">Your rent and property taxes may be increasing.&nbsp\; Learn how the proposed changes to Proposition 13 may affect you.</span>
LOCATION:To register go to: http://www.boe.ca.gov/cgi-bin/seminar.cgi?FLAG=434
UID:e.1315.4825
SEQUENCE:3
DTSTAMP:20260423T133855Z
URL:http://business.gardengrovechamber.com/events/details/diane-harkey-telephone-townhall-meeting-11-12-2015-4825
END:VEVENT

END:VCALENDAR
