BEGIN:VCALENDAR
VERSION:2.0
PRODID:-//ChamberMaster//Event Calendar 2.0//EN
METHOD:PUBLISH
X-PUBLISHED-TTL:P3D
REFRESH-INTERVAL:P3D
CALSCALE:GREGORIAN
BEGIN:VEVENT
DTSTART:20170620T010000Z
DTEND:20170620T020000Z
X-MICROSOFT-CDO-ALLDAYEVENT:FALSE
SUMMARY:District Office Grand Opening and Open House of Congressman Lou Correa
DESCRIPTION:You are cordially invited to attend the District Office Grand Opening and Open House of Congressman Lou Correa. The Grand Opening and Open House will take place on Monday June 19th at 6:00pm\, and is located at 2323 N. Broadway\, Suite 319\, Santa Ana CA 92706. Congressman Correa hopes you will join him\, and looks forward to seeing you on June 19th.
X-ALT-DESC;FMTTYPE=text/html:<span style="font-size:14px\;"><span style="font-family:arial\;">You are cordially invited to attend the <strong>District Office Grand Opening and Open House of Congressman Lou Correa</strong>. The Grand Opening and Open House will take place on <strong>Monday June 19<sup>th</sup> at 6:00pm\,</strong> and is located at <strong>2323 N. Broadway\, Suite 319\, Santa Ana CA 92706</strong>. Congressman Correa hopes you will join him\, and looks forward to seeing you on June 19<sup>th</sup>.</span></span>
LOCATION:Rancho Santiago Community College District Building 2323 N. Broadway Santa Ana\, CA 92706
UID:e.1315.6166
SEQUENCE:3
DTSTAMP:20260420T013218Z
URL:http://business.gardengrovechamber.com/events/details/district-office-grand-opening-and-open-house-of-congressman-lou-correa-6166
END:VEVENT

END:VCALENDAR
