BEGIN:VCALENDAR
VERSION:2.0
PRODID:-//ChamberMaster//Event Calendar 2.0//EN
METHOD:PUBLISH
X-PUBLISHED-TTL:P3D
REFRESH-INTERVAL:P3D
CALSCALE:GREGORIAN
BEGIN:VEVENT
DTSTART:20170124T170000Z
DTEND:20170124T200000Z
X-MICROSOFT-CDO-ALLDAYEVENT:FALSE
SUMMARY:Doing Business with the State of California Workshop
DESCRIPTION:Wayne Gross has 41 years of experience in customer service starting from his early days as a USAF Captain. Wayne currently serves as a Customer Liaison and SB/DVBE Advocate for the State of California Department of General Services\, Procurement Division\, Certification and Outreach Branch. In this role\, he educates the business community and ensures that Small Business (SB) and Disabled Veteran Business Enterprise (DVBE) businesses seeking to understand and navigate the State's procurement system.\n\n\n\nAt this workshop\, you will learn:\n\n  How to get certified\n\n  How to use the State's database to get solicitations\n\n  How to become a California Multiple Award Schedule (CMAS) contractor\n\n  How to market your business to multiple state agencies.
X-ALT-DESC;FMTTYPE=text/html:Wayne Gross has 41 years of experience in customer service starting from his early days as a USAF Captain. Wayne currently serves as a Customer Liaison and SB/DVBE Advocate for the State of California Department of General Services\, Procurement Division\, Certification and Outreach Branch. In this role\, he educates the business community and ensures that Small Business (SB) and Disabled Veteran Business Enterprise (DVBE) businesses seeking to understand and navigate the State&rsquo\;s procurement system.<br />\n<br />\nAt this workshop\, you will learn:<br />\n&middot\; How to get certified<br />\n&middot\; How to use the State&rsquo\;s database to get solicitations<br />\n&middot\; How to become a California Multiple Award Schedule (CMAS) contractor<br />\n&middot\; How to market your business to multiple state agencies.
LOCATION:Garden Grove Courtyard Center 12732 Main Street Garden Grove\, CA 92840
UID:e.1315.6066
SEQUENCE:3
DTSTAMP:20260420T090245Z
URL:http://business.gardengrovechamber.com/events/details/doing-business-with-the-state-of-california-workshop-6066
END:VEVENT

END:VCALENDAR
