BEGIN:VCALENDAR
VERSION:2.0
PRODID:-//ChamberMaster//Event Calendar 2.0//EN
METHOD:PUBLISH
X-PUBLISHED-TTL:P3D
REFRESH-INTERVAL:P3D
CALSCALE:GREGORIAN
BEGIN:VEVENT
DTSTART:20160114T193000Z
DTEND:20160114T213000Z
X-MICROSOFT-CDO-ALLDAYEVENT:FALSE
SUMMARY:Dunn-Edwards Paints Grand Opening at 11:30
DESCRIPTION:Dunn-Edwards Paints is hosting a grand opening event for their new Garden Grove Store location. This location will have a complete line of architectural paint\, painting supplies and equipment\, free delivery services with no minimums\, will call services and credit accounts.
X-ALT-DESC;FMTTYPE=text/html:Dunn-Edwards Paints is hosting a grand opening event for their new Garden Grove Store location. This location will have a complete line of architectural paint\, painting supplies and equipment\, free delivery services with no minimums\, will call services and credit accounts.
LOCATION:Dunn-Edwards Paints 13011 Brookhurst St. Garden Grove\, CA 92843
UID:e.1315.4966
SEQUENCE:3
DTSTAMP:20260421T053812Z
URL:http://business.gardengrovechamber.com/events/details/dunn-edwards-paints-grand-opening-at-11-30-01-14-2016-4966
END:VEVENT

END:VCALENDAR
