BEGIN:VCALENDAR
VERSION:2.0
PRODID:-//ChamberMaster//Event Calendar 2.0//EN
METHOD:PUBLISH
X-PUBLISHED-TTL:P3D
REFRESH-INTERVAL:P3D
CALSCALE:GREGORIAN
BEGIN:VEVENT
DTSTART:20160924T173000Z
DTEND:20160924T203000Z
X-MICROSOFT-CDO-ALLDAYEVENT:FALSE
SUMMARY:Elwyn - Backstage to Broadway
DESCRIPTION:ELWYN PRESENTS....dynamic & talented STARS from around the community\; some of these special individuals also serve on the Elwyn Business Advisory Council (BAC). With their commitment & dedication to support Elwyn programs\, they are filling tables\, selling ads & ensuring the event guests (YOU) have a great time! This year our Stars will be entertaining you with Broadway tunes. Feel free to come dressed in Broadway theme.
X-ALT-DESC;FMTTYPE=text/html:ELWYN PRESENTS....dynamic &amp\;&nbsp\;talented STARS from around the community\; some of these special individuals also serve on the Elwyn&nbsp\;Business Advisory Council (BAC). With their commitment &amp\; dedication to support Elwyn programs\, they are filling tables\, selling ads &amp\; ensuring the event guests (YOU) have a great time! This year our Stars will be entertaining you with Broadway tunes. Feel free to come dressed in Broadway theme.&nbsp\;
LOCATION:Mesa Verde Country Club 3000 Club House Road Costa Mesa\, CA 92626
UID:e.1315.5996
SEQUENCE:3
DTSTAMP:20260420T150926Z
URL:http://business.gardengrovechamber.com/events/details/elwyn-backstage-to-broadway-09-24-2016-5996
END:VEVENT

END:VCALENDAR
