BEGIN:VCALENDAR
VERSION:2.0
PRODID:-//ChamberMaster//Event Calendar 2.0//EN
METHOD:PUBLISH
X-PUBLISHED-TTL:P3D
REFRESH-INTERVAL:P3D
CALSCALE:GREGORIAN
BEGIN:VEVENT
DTSTART:20151013T183000Z
DTEND:20151013T200000Z
X-MICROSOFT-CDO-ALLDAYEVENT:FALSE
SUMMARY:Food for Thought Luncheon
DESCRIPTION:Garden Grove Community Foundation presents the 17th Annual Food for Thought Luncheon.
X-ALT-DESC;FMTTYPE=text/html:Garden Grove Community Foundation presents the 17th Annual Food for Thought Luncheon.<br />\n<br />\n&nbsp\;
LOCATION:Wyndham Resort 12021 Harbor Boulevard Garden Grove
UID:e.1315.4559
SEQUENCE:3
DTSTAMP:20260423T145858Z
URL:http://business.gardengrovechamber.com/events/details/food-for-thought-luncheon-10-13-2015-4559
END:VEVENT

END:VCALENDAR
