BEGIN:VCALENDAR
VERSION:2.0
PRODID:-//ChamberMaster//Event Calendar 2.0//EN
METHOD:PUBLISH
X-PUBLISHED-TTL:P3D
REFRESH-INTERVAL:P3D
CALSCALE:GREGORIAN
BEGIN:VEVENT
DTSTART:20141021T170000Z
DTEND:20141021T190000Z
X-MICROSOFT-CDO-ALLDAYEVENT:FALSE
SUMMARY:Free Basic Sales & Use Tax Workshop for Spanish-Speaking Business Owners
DESCRIPTION:Learn how to acquire a seller's permit\, how to issue resale certificates\, and how to determine what is taxable in your industry.  Many business owners are not aware that they can register from the convenience of their own homes. Also\, learn how to file your sales tax return electronically on the BOE website.  Learn the different types of deductions and exemptions\, and how to figure out district tax.  Find out the advantages of becoming an e-Client and how to report online.
X-ALT-DESC;FMTTYPE=text/html:Learn how to acquire a seller&#39\;s permit\, how to issue resale certificates\, and how to determine what is taxable in your industry. &nbsp\;Many business owners are not aware that they can register from the convenience of their own homes. Also\, learn how to file your sales tax return electronically on the BOE website. &nbsp\;Learn the different types of deductions and exemptions\, and how to figure out district tax. &nbsp\;Find out the advantages of becoming an e-Client and how to report online.&nbsp\;
LOCATION:Rancho Santiago Community College District 2323 N. Broadway\, Room 340 - 3rd Floor Santa Ana\, CA 92706
UID:e.1315.2236
SEQUENCE:3
DTSTAMP:20260424T085802Z
URL:http://business.gardengrovechamber.com/events/details/free-basic-sales-use-tax-workshop-for-spanish-speaking-business-owners-10-21-2014-2236
END:VEVENT

END:VCALENDAR
