BEGIN:VCALENDAR
VERSION:2.0
PRODID:-//ChamberMaster//Event Calendar 2.0//EN
METHOD:PUBLISH
X-PUBLISHED-TTL:P3D
REFRESH-INTERVAL:P3D
CALSCALE:GREGORIAN
BEGIN:VEVENT
DTSTART:20131113T163000Z
DTEND:20131113T193000Z
X-MICROSOFT-CDO-ALLDAYEVENT:FALSE
SUMMARY:Free Community Forum on the Conditions of Children in Orange County
DESCRIPTION:The Orange County Board of Supervisors and the Orange County Children's Partnership are hosting 5 FREE forums to release their 19th Annual  Report on the Conditions of Children in Orange County. The special topics at each event include: Supporting Military Families\,  Foster Youth Services\, the Impact of DUI on Youth and Families\, Food Insecurity and Children's Vision.  In addition to the special presentation\, the Forum includes an overview of data highlights in each of the 4 sections: health\, education\, safe homes and communities and economic well being\, and each attendee receives a printed report. The First District Forum is next Wednesday\, November 13th from 8:30-11:30 a.m. in Santa Ana. To register\, please go to: https://www.eventbrite.com/event/8860041623
X-ALT-DESC;FMTTYPE=text/html:The Orange County Board of Supervisors and the Orange County Children&#39\;s Partnership are hosting 5 FREE forums to release their 19th Annual &nbsp\;Report on the Conditions of Children in Orange County. The special topics at each event include: Supporting Military Families\, &nbsp\;Foster Youth Services\, the Impact of DUI on Youth and Families\, Food Insecurity and Children&#39\;s Vision.&nbsp\; In addition to the special presentation\, the Forum includes an overview of data highlights in each of the 4 sections: health\, education\, safe homes and communities and economic well being\, and each attendee receives a printed report. The First District Forum is next Wednesday\, November 13th from 8:30-11:30 a.m. in Santa Ana. To register\, please go to: https://www.eventbrite.com/event/8860041623
LOCATION:Delhi Center\, 505 E Central Ave\, Santa Ana\, CA 92707
UID:e.1315.1192
SEQUENCE:3
DTSTAMP:20260425T015251Z
URL:http://business.gardengrovechamber.com/events/details/free-community-forum-on-the-conditions-of-children-in-orange-county-11-13-2013-1192
END:VEVENT

END:VCALENDAR
