BEGIN:VCALENDAR
VERSION:2.0
PRODID:-//ChamberMaster//Event Calendar 2.0//EN
METHOD:PUBLISH
X-PUBLISHED-TTL:P3D
REFRESH-INTERVAL:P3D
CALSCALE:GREGORIAN
BEGIN:VEVENT
DTSTART:20140725T013000Z
DTEND:20140725T033000Z
X-MICROSOFT-CDO-ALLDAYEVENT:FALSE
SUMMARY:Free Summer Concert Series - "Wanted" (Bon Jovi Tribute Band)
DESCRIPTION:The Garden Grove Community Foundation and The City of Garden Grove proudly present Free Summer Concert Series on Thursday nights.\n\n\n\n                          July 10 - "Rumours" (Fleetwood Mac Tribute Band)\n\n                          July 17 - "The Funky Hippeez" (70's Funk)\n\n                          July 24 - "Wanted" (Bon Jovi Tribute Band)\n\n                          July 31 - "Brad Johnson & The Killing Time Band" (Country)\n\n                          August 7 - "The Beatles" (50's & 60's)\n\n                          August 14 - "The Answer" (Classic Rock) 7:00 pm start\n\n\n\nBlankets and lawn chairs welcome.  NO EZ-Ups or golf cards.\n\n\n\n(An exciting Pre-Show Event sponsored by the GGCF:  Preselected high school students compete each week in a singing competition.  The winner from each night moves to the finals and will compete on August 14.  The winning student will receive a $500 scholarship and a $500 donation to their high school choral program!  Contest starts at 5:30 pm each week).
X-ALT-DESC;FMTTYPE=text/html:The Garden Grove Community Foundation and The City of Garden Grove proudly present <strong><em>Free Summer Concert Series</em></strong> on Thursday nights.<br />\n<br />\n&nbsp\; &nbsp\; &nbsp\; &nbsp\; &nbsp\; &nbsp\; &nbsp\; &nbsp\; &nbsp\; &nbsp\; &nbsp\; &nbsp\; &nbsp\; July 10 - &quot\;Rumours&quot\;&nbsp\;(Fleetwood Mac Tribute Band)<br />\n&nbsp\; &nbsp\; &nbsp\; &nbsp\; &nbsp\; &nbsp\; &nbsp\; &nbsp\; &nbsp\; &nbsp\; &nbsp\; &nbsp\; &nbsp\; July 17 - &quot\;The Funky&nbsp\;Hippeez&quot\; (70&#39\;s Funk)<br />\n&nbsp\; &nbsp\; &nbsp\; &nbsp\; &nbsp\; &nbsp\; &nbsp\; &nbsp\; &nbsp\; &nbsp\; &nbsp\; &nbsp\; &nbsp\; July 24 - &quot\;Wanted&quot\; (Bon Jovi Tribute Band)<br />\n&nbsp\;&nbsp\; &nbsp\; &nbsp\; &nbsp\; &nbsp\; &nbsp\; &nbsp\; &nbsp\; &nbsp\; &nbsp\; &nbsp\; &nbsp\; &nbsp\;July 31 - &quot\;Brad Johnson &amp\; The Killing Time Band&quot\; (Country)<br />\n&nbsp\;&nbsp\; &nbsp\; &nbsp\; &nbsp\; &nbsp\; &nbsp\; &nbsp\; &nbsp\; &nbsp\; &nbsp\; &nbsp\; &nbsp\; &nbsp\;August 7 - &quot\;The Beatles&quot\; (50&#39\;s &amp\; 60&#39\;s)<br />\n&nbsp\;&nbsp\; &nbsp\; &nbsp\; &nbsp\; &nbsp\; &nbsp\; &nbsp\; &nbsp\; &nbsp\; &nbsp\; &nbsp\; &nbsp\; &nbsp\;August 14 - &quot\;The Answer&quot\; (Classic Rock) <em><strong>7:00 pm start</strong></em><br />\n<br />\n<strong>Blankets and lawn chairs welcome. &nbsp\;NO EZ-Ups or golf cards.<br />\n<br />\n<span style="font-size:10px\;"><span style="color:#FF0000\;"><em>(An exciting Pre-Show Event sponsored by the GGCF: &nbsp\;Preselected high school students compete each week in a singing competition. &nbsp\;The winner from each night moves to the finals and will compete on August 14. &nbsp\;The winning student will receive a $500 scholarship and a $500 donation to their high school choral program! &nbsp\;Contest starts at 5:30 pm each week).</em></span></span></strong>
LOCATION:Eastgate Park 12001 St. Mark Street Garden Grove\, CA 92845 West end of Chapman Avenue
UID:e.1315.1762
SEQUENCE:3
DTSTAMP:20260424T130422Z
URL:http://business.gardengrovechamber.com/events/details/free-summer-concert-series-wanted-bon-jovi-tribute-band-07-24-2014-1762
END:VEVENT

END:VCALENDAR
