BEGIN:VCALENDAR
VERSION:2.0
PRODID:-//ChamberMaster//Event Calendar 2.0//EN
METHOD:PUBLISH
X-PUBLISHED-TTL:P3D
REFRESH-INTERVAL:P3D
CALSCALE:GREGORIAN
BEGIN:VEVENT
DTSTART;VALUE=DATE:20160317
DTEND;VALUE=DATE:20160319
TRANSP:TRANSPARENT
X-MICROSOFT-CDO-ALLDAYEVENT:TRUE
SUMMARY:Friendly Center - Spring Fun Days
DESCRIPTION:Bring a smile to a child this spring by donating Easter baskets. Help The Friendly Center reach their goal of 1\,000 Easter baskets!
X-ALT-DESC;FMTTYPE=text/html:<span style="color: rgb(23\, 23\, 23)\; font-family: Chivo\, sans-serif\; font-size: 14px\; line-height: 18px\; text-align: center\;">Bring a smile to a child this spring by donating Easter baskets. Help The Friendly Center reach their goal of 1\,000 Easter baskets!</span>
LOCATION:8:00AM - 4:00PM Central Office 147 W Rose Ave Orange\, CA 92867 9:00AM - 3:00PM Placentia Office 900 S Melrose St Placentia\, CA 92870 2:00PM - 5:00PM Stanton Office 11822 Santa Paula St Stanton\, CA 90680
UID:e.1315.5105
SEQUENCE:3
DTSTAMP:20260421T004247Z
URL:http://business.gardengrovechamber.com/events/details/friendly-center-spring-fun-days-03-17-2016-5105
END:VEVENT

END:VCALENDAR
