BEGIN:VCALENDAR
VERSION:2.0
PRODID:-//ChamberMaster//Event Calendar 2.0//EN
METHOD:PUBLISH
X-PUBLISHED-TTL:P3D
REFRESH-INTERVAL:P3D
CALSCALE:GREGORIAN
BEGIN:VEVENT
DTSTART:20150522T200000Z
DTEND:20150523T050000Z
X-MICROSOFT-CDO-ALLDAYEVENT:FALSE
SUMMARY:Garden Grove 57th Annual Strawberry Festival
DESCRIPTION:57th Annual Strawberry Festival.  This year we are honoring our returning Veterans!\n\n\n\nTo see calendar of events go to www.http://strawberryfestival.org/current-event-schedule/
X-ALT-DESC;FMTTYPE=text/html:57th<span style="line-height: 20.7999992370605px\;">&nbsp\;Annual Strawberry Festival. &nbsp\;This year we are honoring our returning Veterans!</span><br style="line-height: 20.7999992370605px\;" />\n<br style="line-height: 20.7999992370605px\;" />\n<span style="line-height: 20.7999992370605px\; color: rgb(255\, 0\, 0)\;"><strong><em>To see calendar of events go to www.http://strawberryfestival.org/current-event-schedule/</em></strong></span>
LOCATION:Village Green Between Euclid Street & Main Street Garden Grove\, CA 92840
UID:e.1315.2280
SEQUENCE:3
DTSTAMP:20260423T222755Z
URL:http://business.gardengrovechamber.com/events/details/garden-grove-57th-annual-strawberry-festival-05-22-2015-2280
END:VEVENT

END:VCALENDAR
