BEGIN:VCALENDAR
VERSION:2.0
PRODID:-//ChamberMaster//Event Calendar 2.0//EN
METHOD:PUBLISH
X-PUBLISHED-TTL:P3D
REFRESH-INTERVAL:P3D
CALSCALE:GREGORIAN
BEGIN:VEVENT
DTSTART;VALUE=DATE:20170526
DTEND;VALUE=DATE:20170530
TRANSP:TRANSPARENT
X-MICROSOFT-CDO-ALLDAYEVENT:TRUE
SUMMARY:Garden Grove 59th Annual Strawberry Festival
DESCRIPTION:59th Annual Strawberry Festival.  This year we are honoring our wonderful community volunteer "superheroes!"\n\n\n\nTo see calendar of events go to www.http://strawberryfestival.org/current-event-schedule/
X-ALT-DESC;FMTTYPE=text/html:59th<span style="line-height: 20.7999992370605px\;">&nbsp\;Annual Strawberry Festival. &nbsp\;This year we are honoring our wonderful community volunteer &quot\;superheroes!&quot\;</span><br style="line-height: 20.7999992370605px\;" />\n<br style="line-height: 20.7999992370605px\;" />\n<span style="line-height: 20.7999992370605px\; color: rgb(255\, 0\, 0)\;"><strong><em>To see calendar of events go to www.http://strawberryfestival.org/current-event-schedule/</em></strong></span>
LOCATION:Village Green Between Euclid Street & Main Street Garden Grove\, CA 92840
UID:e.1315.6080
SEQUENCE:3
DTSTAMP:20260420T030605Z
URL:http://business.gardengrovechamber.com/events/details/garden-grove-59th-annual-strawberry-festival-6080
END:VEVENT

END:VCALENDAR
