BEGIN:VCALENDAR
VERSION:2.0
PRODID:-//ChamberMaster//Event Calendar 2.0//EN
METHOD:PUBLISH
X-PUBLISHED-TTL:P3D
REFRESH-INTERVAL:P3D
CALSCALE:GREGORIAN
BEGIN:VEVENT
DTSTART:20150416T003000Z
DTEND:20150416T020000Z
X-MICROSOFT-CDO-ALLDAYEVENT:FALSE
SUMMARY:Garden Grove Chamber Mixer
DESCRIPTION:Join us at the Garden Grove Chamber of Commerce and meet our Downtown Business Association Members and Main Street Commission.
X-ALT-DESC;FMTTYPE=text/html:Join us at the Garden Grove Chamber of Commerce and meet our Downtown Business Association Members and Main Street Commission.&nbsp\;
LOCATION:12866 Main Street\, Suite 102 Garden Grove\, CA 92840
UID:e.1315.2924
SEQUENCE:3
DTSTAMP:20260424T003303Z
URL:http://business.gardengrovechamber.com/events/details/garden-grove-chamber-mixer-04-15-2015-2924
END:VEVENT

END:VCALENDAR
