BEGIN:VCALENDAR
VERSION:2.0
PRODID:-//ChamberMaster//Event Calendar 2.0//EN
METHOD:PUBLISH
X-PUBLISHED-TTL:P3D
REFRESH-INTERVAL:P3D
CALSCALE:GREGORIAN
BEGIN:VEVENT
DTSTART:20131114T193000Z
DTEND:20131114T210000Z
X-MICROSOFT-CDO-ALLDAYEVENT:FALSE
SUMMARY:Garden Grove Chamber Women's Division Luncheon
DESCRIPTION:Garden Grove Chamber of Commerce Women's Division Luncheon.  Speaker will be LuAnn Barrows\, President of the Garden Grove Emblem #279.\n\n\n\nWe are supporting the Emblem Club Canned Food Drive\, bring 2 cans of food and get a free opportunity ticket!\n\n\n\nNetworker is Susie Oien\, Azteca Restaurant.
X-ALT-DESC;FMTTYPE=text/html:Garden Grove Chamber of Commerce Women&#39\;s Division Luncheon. &nbsp\;Speaker will be LuAnn Barrows\, President of the Garden Grove Emblem #279.<br />\n<br />\nWe are supporting the Emblem Club Canned Food Drive\, bring 2 cans of food and get a free opportunity ticket!<br />\n<br />\nNetworker is Susie Oien\, Azteca Restaurant.
LOCATION:Garden Grove Elk's Lodge 11551 Trask Avenue Garden Grove\, CA 92843
UID:e.1315.1193
SEQUENCE:3
DTSTAMP:20260425T015235Z
URL:http://business.gardengrovechamber.com/events/details/garden-grove-chamber-women-s-division-luncheon-11-14-2013-1193
END:VEVENT

END:VCALENDAR
