BEGIN:VCALENDAR
VERSION:2.0
PRODID:-//ChamberMaster//Event Calendar 2.0//EN
METHOD:PUBLISH
X-PUBLISHED-TTL:P3D
REFRESH-INTERVAL:P3D
CALSCALE:GREGORIAN
BEGIN:VEVENT
DTSTART:20150506T160000Z
DTEND:20150507T020000Z
X-MICROSOFT-CDO-ALLDAYEVENT:FALSE
SUMMARY:Garden Grove Golf Classic
DESCRIPTION:Tournament field limited to 144 Golfers so make your reservations soon. Hole-in-One Contest for $20\,000 cash or $25\,000 toward a car from Garden Grove Hyundai. Putting and Long Drive Contests. Awards for 1st\, 2nd\, and 3rd Place Team. Unlimited refreshments on the Course. Boxed Lunch courtesy of Lee's Sandwiches and dinner after Golf Classic courtesy of Outback Steakhouse!\n\n\n\nThere will also be a Silent Auction with great gifts\, golf equipment\, golf trips and more.\n\n\n\nAll proceeds benefit the community. Contributions are Tax Deductible!
X-ALT-DESC;FMTTYPE=text/html:<em><strong>Tournament field limited to 144 Golfers</strong></em> so make your reservations soon. <strong><em>Hole-in-One Contest for $20\,000 cash or $25\,000 toward a car from Garden Grove Hyundai</em></strong>. Putting and Long Drive Contests. Awards for 1st\, 2nd\, and 3rd Place Team. Unlimited refreshments on the Course. Boxed Lunch courtesy of Lee&#39\;s Sandwiches and dinner after Golf Classic courtesy of Outback Steakhouse!<br />\n<br />\nThere will also be a <strong><em>Silent Auction</em></strong> with great gifts\, golf equipment\, golf trips and more.<br />\n<br />\n<strong><em>All proceeds benefit the community. Contributions are Tax Deductible!</em></strong>
LOCATION:Willowick Golf Course 3017 W. 5th Street Santa Ana\, CA 92703
UID:e.1315.2436
SEQUENCE:3
DTSTAMP:20260423T222425Z
URL:http://business.gardengrovechamber.com/events/details/garden-grove-golf-classic-05-06-2015-2436
END:VEVENT

END:VCALENDAR
