BEGIN:VCALENDAR
VERSION:2.0
PRODID:-//ChamberMaster//Event Calendar 2.0//EN
METHOD:PUBLISH
X-PUBLISHED-TTL:P3D
REFRESH-INTERVAL:P3D
CALSCALE:GREGORIAN
BEGIN:VEVENT
DTSTART;VALUE=DATE:20160930
DTEND;VALUE=DATE:20161001
TRANSP:TRANSPARENT
X-MICROSOFT-CDO-ALLDAYEVENT:TRUE
SUMMARY:Garden Grove Host Lions Club 2016 Fall Charity Golf Tournament
DESCRIPTION:The Garden Grove Host Lions Club will be having a Charity Golf Tournament on Friday\, September 30\, 2016. It will take place at Willowick Golf Course. This will support Lions Eyeglass Recycling Programs\, Guide Dogs of the Desert\, GGUSD Student Eye Exam Program\, Boys & Girls Club of Garden Grove\, H.O.P.E.\, Garden Grove Neighborhood Association and Garden Grove Police Explorer Post.
X-ALT-DESC;FMTTYPE=text/html:The Garden Grove Host Lions Club will be having a Charity Golf Tournament on Friday\, September 30\, 2016. It will take place at Willowick Golf Course. This will support Lions Eyeglass Recycling Programs\, Guide Dogs of the Desert\, GGUSD Student Eye Exam Program\, Boys &amp\; Girls Club of Garden Grove\, H.O.P.E.\, Garden Grove Neighborhood Association and Garden Grove Police Explorer Post.&nbsp\;&nbsp\;&nbsp\;&nbsp\;&nbsp\;
LOCATION:Willowick Golf Course 3017 W. 5th Street Santa Ana\, CA 92703
UID:e.1315.6000
SEQUENCE:3
DTSTAMP:20260420T151100Z
URL:http://business.gardengrovechamber.com/events/details/garden-grove-host-lions-club-2016-fall-charity-golf-tournament-6000
END:VEVENT

END:VCALENDAR
