BEGIN:VCALENDAR
VERSION:2.0
PRODID:-//ChamberMaster//Event Calendar 2.0//EN
METHOD:PUBLISH
X-PUBLISHED-TTL:P3D
REFRESH-INTERVAL:P3D
CALSCALE:GREGORIAN
BEGIN:VEVENT
DTSTART;VALUE=DATE:20161108
DTEND;VALUE=DATE:20161109
TRANSP:TRANSPARENT
X-MICROSOFT-CDO-ALLDAYEVENT:TRUE
SUMMARY:Garden Grove Host Lions Club - Preventive Health Care Event
DESCRIPTION:The Garden Grove Host Lion's Club is pleased to offer a preventive health care event.  Life Line Screening\, a leading provider of community-based preventive health screenings\, will host their affordable\, non-invasive and painless health screenings on 11/8/2016 at the Lions Clubhouse at 9860 Larson Avenue in Garden Grove.  \n\n \n\nFive screenings will be offered that scan for potential health problems related to: blocked arteries which is a leading cause of stroke\; abdominal aortic aneurysms which can lead to a ruptured aorta\; hardening of the arteries in the legs which is a strong predictor of heart disease\; atrial fibrillation or irregular heart beat which is closely tied to stroke risk\; and a bone density screening\, for men and women\, used to assess the risk of osteoporosis.
X-ALT-DESC;FMTTYPE=text/html:<span style="color:black\;"><span style="font-family:arial\,sans-serif\;"><span style="font-size:18.0pt\;">The Garden Grove Host Lion&#39\;s Club&nbsp\;is pleased to&nbsp\;offer a preventive health care event.&nbsp\; Life Line Screening\, a leading provider of community-based preventive health screenings\, will host their affordable\, non-invasive and&nbsp\;painless health screenings on 11/8/2016 at the Lions Clubhouse at 9860 Larson Avenue in Garden Grove.&nbsp\; </span></span></span><br />\n&nbsp\;<br />\n<span style="color:black\;"><span style="font-family:arial\,sans-serif\;"><span style="font-size:18.0pt\;">Five screenings will be offered that scan for potential health problems related to: blocked arteries which is a leading cause of stroke\; abdominal aortic aneurysms which can lead to a ruptured aorta\; hardening of the arteries in the legs which is a strong predictor of heart disease\; atrial fibrillation or irregular heart beat which is closely tied to stroke risk\; and a bone density screening\, for men and women\, used to assess the risk of osteoporosis.&nbsp\;</span></span></span>
LOCATION:Lions Clubhouse 9860 Larson Avenue Garden Grove.
UID:e.1315.6020
SEQUENCE:3
DTSTAMP:20260420T121317Z
URL:http://business.gardengrovechamber.com/events/details/garden-grove-host-lions-club-preventive-health-care-event-6020
END:VEVENT

END:VCALENDAR
