BEGIN:VCALENDAR
VERSION:2.0
PRODID:-//ChamberMaster//Event Calendar 2.0//EN
METHOD:PUBLISH
X-PUBLISHED-TTL:P3D
REFRESH-INTERVAL:P3D
CALSCALE:GREGORIAN
BEGIN:VEVENT
DTSTART;VALUE=DATE:20170115
DTEND;VALUE=DATE:20170123
TRANSP:TRANSPARENT
X-MICROSOFT-CDO-ALLDAYEVENT:TRUE
SUMMARY:Garden Grove Restaurant Week Jan 15 to 22
DESCRIPTION:Garden Grove Restaurant Week\n\nJanuary 15\, 2017 through January 22\, 2017\n\n \n\n     The Garden Grove Chamber of Commerce and City of Garden Grove are excited to be invited by VisitCalifornia to participate in "California Restaurant Month" that takes place in January/2017.\n\n \n\n     This is an annual event that has taken place for six years that has about 50 cities participating now. Garden Grove is participating by having "Garden Grove Restaurant Week" January 15\, 2017 through January 22\, 2017. Please go to the link below to see which restaurants are participating and check out their menus.\n\n \n\n"Garden Grove Restaurant Week":\n\nhttps://www.ci.garden-grove.ca.us/restaurantweek\n\n \n\n \n\nVisitCalifornia's "California Restaurant Month":\n\nhttp://www.visitcalifornia.com/california-restaurant-month\n\n \n\nNOTE: If you are a Garden Grove restaurant owner and want to participate\, please contact Cindy Spindle at the Garden Grove Chamber at ceo@gardengrovechamber.com.
X-ALT-DESC;FMTTYPE=text/html:<span style="font-size:16px\;"><strong><span style="color:black\;">Garden Grove Restaurant Week</span></strong><br />\n<strong><span style="color:black\;">January 15\, 2017 through January 22\, 2017</span></strong><br />\n&nbsp\;<br />\n<strong><span style="color:black\;">&nbsp\;&nbsp\;&nbsp\;&nbsp\; The&nbsp\;<em>Garden Grove Chamber of Commerce</em>&nbsp\;and&nbsp\;<em>City of Garden Grove&nbsp\;</em>are excited to be invited by&nbsp\;</span></strong><strong><span style="color:#0A74DB\;">VisitCalifornia</span></strong><strong><span style="color:black\;">&nbsp\;to participate in&nbsp\;</span></strong><strong><em><span style="color:#00B050\;">&quot\;California Restaurant Month&quot\;</span></em></strong><strong><span style="color:black\;"> that takes place in January/2017.</span></strong><br />\n&nbsp\;<br />\n<strong><span style="color:black\;">&nbsp\;&nbsp\;&nbsp\;&nbsp\; This is an annual event that has taken place for six years that has about 50 cities participating now. Garden Grove is participating by having </span></strong><strong><em><span style="color:red\;">&quot\;Garden Grove Restaurant Week&quot\;</span></em></strong><strong><span style="color:black\;"> January 15\, 2017 through January 22\, 2017. Please go to the link below to see which restaurants are participating and check out their menus.</span></strong><br />\n&nbsp\;<br />\n<strong><em><span style="color:#00B050\;">&ldquo\;Garden Grove Restaurant Week&rdquo\;</span></em></strong><strong><span style="color:black\;">:</span></strong><br />\n<a href="https://www.ci.garden-grove.ca.us/restaurantweek" target="_blank"><strong><span style="color:blue\;">https://www.ci.garden-grove.ca.us/restaurantweek</span></strong></a><br />\n&nbsp\;<br />\n&nbsp\;<br />\n<strong><span style="color:black\;">VisitCalifornia&#39\;s&nbsp\;</span></strong><strong><em><span style="color:#00B050\;">&quot\;California Restaurant Month&quot\;</span></em></strong><strong>:</strong><br />\n<a href="http://www.visitcalifornia.com/california-restaurant-month" target="_blank"><strong><span style="color:blue\;">http://www.visitcalifornia.com/california-restaurant-month</span></strong></a><br />\n&nbsp\;<br />\n<strong><span style="color:red\;">NOTE: If you are a Garden Grove restaurant owner and want to participate\, please contact Cindy Spindle at the Garden Grove Chamber at ceo@gardengrovechamber.com.</span></strong></span>
LOCATION:"Garden Grove Restaurant Week": https://www.ci.garden-grove.ca.us/restaurantweek VisitCalifornia's "California Restaurant Month": http://www.visitcalifornia.com/california-restaurant-month
UID:e.1315.6061
SEQUENCE:3
DTSTAMP:20260420T090313Z
URL:http://business.gardengrovechamber.com/events/details/garden-grove-restaurant-week-jan-15-to-22-6061
END:VEVENT

END:VCALENDAR
