BEGIN:VCALENDAR
VERSION:2.0
PRODID:-//ChamberMaster//Event Calendar 2.0//EN
METHOD:PUBLISH
X-PUBLISHED-TTL:P3D
REFRESH-INTERVAL:P3D
CALSCALE:GREGORIAN
BEGIN:VEVENT
DTSTART;VALUE=DATE:20180120
DTEND;VALUE=DATE:20180128
TRANSP:TRANSPARENT
X-MICROSOFT-CDO-ALLDAYEVENT:TRUE
SUMMARY:Garden Grove Restaurant Week Jan 20 to 27
DESCRIPTION:Garden Grove Restaurant Week\n\nJanuary 20\, 2018 through January 27\, 2018\n \n\n     The Garden Grove Chamber of Commerce and City of Garden Grove are excited to be invited by VisitCalifornia to participate in "California Restaurant Month" that takes place in January/2018.\n\n \n\n     This is an annual event that has taken place for seven years that has about 50 cities participating now. Garden Grove is participating by having "Garden Grove Restaurant Week" January 20\, 2018 through January 27\, 2018. Please go to the link below to see which restaurants are participating and check out their menus.\n\n \n\n"Garden Grove Restaurant Week":\n\nhttps://www.ci.garden-grove.ca.us/restaurantweek\n\n \n\n \n\nVisitCalifornia's "California Restaurant Month":\n\nhttp://www.visitcalifornia.com/california-restaurant-month\n\n \n\nNOTE: If you are a Garden Grove restaurant owner and want to participate\, please contact Cindy Spindle at the Garden Grove Chamber at ceo@gardengrovechamber.com.
X-ALT-DESC;FMTTYPE=text/html:<div style="text-align: center\;"><span style="font-size:14px\;"><span style="font-family:arial\;"><strong>Garden Grove Restaurant Week<br />\nJanuary 20\, 2018&nbsp\;through January 27\, 2018</strong></span></span></div>\n<span style="font-size:14px\;"><span style="font-family:arial\;">&nbsp\;<br />\n&nbsp\;&nbsp\;&nbsp\;&nbsp\; The&nbsp\;<strong>Garden Grove Chamber of Commerce</strong>&nbsp\;and&nbsp\;<strong>City of Garden Grove</strong>&nbsp\;are excited to be invited by&nbsp\;VisitCalifornia&nbsp\;to participate in&nbsp\;&quot\;California Restaurant Month&quot\; that takes place in January/2018.<br />\n&nbsp\;<br />\n&nbsp\;&nbsp\;&nbsp\;&nbsp\; This is an annual event that has taken place for seven years that has about 50 cities participating now. Garden Grove is participating by having &quot\;Garden Grove Restaurant Week&quot\; <strong>January 20\, 2018 through January 27\, 2018</strong>. Please go to the link below to see which restaurants are participating and check out their menus.<br />\n&nbsp\;<br />\n&ldquo\;Garden Grove Restaurant Week&rdquo\;:<br />\n<a href="https://www.ci.garden-grove.ca.us/restaurantweek" target="_blank">https://www.ci.garden-grove.ca.us/restaurantweek</a><br />\n&nbsp\;<br />\n&nbsp\;<br />\nVisitCalifornia&#39\;s&nbsp\;&quot\;California Restaurant Month&quot\;:<br />\n<a href="http://www.visitcalifornia.com/california-restaurant-month" target="_blank">http://www.visitcalifornia.com/california-restaurant-month</a><br />\n&nbsp\;<br />\nNOTE: If you are a Garden Grove restaurant owner and want to participate\, please contact Cindy Spindle at the Garden Grove Chamber at ceo@gardengrovechamber.com.</span></span>
LOCATION:"Garden Grove Restaurant Week": https://www.ci.garden-grove.ca.us/restaurantweek VisitCalifornia's "California Restaurant Month": http://www.visitcalifornia.com/california-restaurant-month
UID:e.1315.6256
SEQUENCE:3
DTSTAMP:20260419T145637Z
URL:http://business.gardengrovechamber.com/events/details/garden-grove-restaurant-week-jan-20-to-27-6256
END:VEVENT

END:VCALENDAR
