BEGIN:VCALENDAR
VERSION:2.0
PRODID:-//ChamberMaster//Event Calendar 2.0//EN
METHOD:PUBLISH
X-PUBLISHED-TTL:P3D
REFRESH-INTERVAL:P3D
CALSCALE:GREGORIAN
BEGIN:VEVENT
DTSTART:20150128T191500Z
DTEND:20150128T210000Z
X-MICROSOFT-CDO-ALLDAYEVENT:FALSE
SUMMARY:Garden Grove State of the City Luncheon 2015
DESCRIPTION:The annual Garden Grove State of the City Luncheon is presented by the Garden Grove Chamber of Commerce in partnership with the City of Garden Grove.  This is the most important business luncheon of the year for local businesses and area residents.\n\n\n\nThe luncheon's keynote speaker is the Mayor who will provide key challenges and opportunities for the coming year.
X-ALT-DESC;FMTTYPE=text/html:<br />\n<span style="font-size:14px\;"><span style="font-family:times new roman\;">The annual <em><strong>Garden Grove State of the City Luncheon</strong></em> is presented by the Garden Grove Chamber of Commerce in partnership with the City of Garden Grove. &nbsp\;This is the most important business luncheon of the year for local businesses and area residents.<br />\n<br />\nThe luncheon&#39\;s keynote speaker is the Mayor who will provide key challenges and opportunities for the coming year.</span></span>
LOCATION:Embassy Suites Hotel 11767 Harbor Blvd. Garden Grove\, CA 92840
UID:e.1315.2104
SEQUENCE:3
DTSTAMP:20260424T044845Z
URL:http://business.gardengrovechamber.com/events/details/garden-grove-state-of-the-city-luncheon-2015-01-28-2015-2104
END:VEVENT

END:VCALENDAR
