BEGIN:VCALENDAR
VERSION:2.0
PRODID:-//ChamberMaster//Event Calendar 2.0//EN
METHOD:PUBLISH
X-PUBLISHED-TTL:P3D
REFRESH-INTERVAL:P3D
CALSCALE:GREGORIAN
BEGIN:VEVENT
DTSTART:20170202T190000Z
DTEND:20170202T210000Z
X-MICROSOFT-CDO-ALLDAYEVENT:FALSE
SUMMARY:Garden Grove State of the City Luncheon - 2017
DESCRIPTION:Join us for the annual Garden Grove State of the City Luncheon presented by the Garden Grove Chamber of Commerce and City of Garden Grove. Come hear our newly elected Mayor Steve Jones as our keynote speaker who will provide an overview of the  key challenges and opportunities facing our community in the coming year.
X-ALT-DESC;FMTTYPE=text/html:Join us for the annual <span style="color:#FF0000\;"><strong><em>Garden Grove State of the City Luncheon</em></strong></span> presented by the Garden Grove Chamber of Commerce and City of Garden Grove. Come hear our newly elected Mayor Steve Jones as our keynote speaker who will provide an overview of the &nbsp\;key challenges and opportunities facing our community in the coming year.
LOCATION:Great Wolf Lodge of Southern California 12681 Harbor Blvd. Garden Grove\, CA 92840
UID:e.1315.6042
SEQUENCE:3
DTSTAMP:20260420T073544Z
URL:http://business.gardengrovechamber.com/events/details/garden-grove-state-of-the-city-luncheon-2017-6042
END:VEVENT

END:VCALENDAR
