BEGIN:VCALENDAR
VERSION:2.0
PRODID:-//ChamberMaster//Event Calendar 2.0//EN
METHOD:PUBLISH
X-PUBLISHED-TTL:P3D
REFRESH-INTERVAL:P3D
CALSCALE:GREGORIAN
BEGIN:VEVENT
DTSTART:20180131T190000Z
DTEND:20180131T213000Z
X-MICROSOFT-CDO-ALLDAYEVENT:FALSE
SUMMARY:Garden Grove State of the City Luncheon 2018
DESCRIPTION:The State of the City Luncheon is presented by the Garden Grove Chamber of Commerce in partnership with the City of Garden Grove. The State of the City is the premier City sponsored event\, showcasing the accomplishments and the vision for the City of Garden Grove. We will have Mayor Steve Jones as our keynote speaker who will provide an overview of the key challenges and opportunities facing our community in the coming year.\n\n \n\nJoin us in our celebration of the City of Garden Grove by becoming a sponsor for this most important business luncheon of the year. Network with elected officials\, meet community leaders\, and connect with business leaders. Your generosity supports this event as well as other Chamber events throughout the year.\n\n(Reception 11:00 am - 12:00 pm\; Luncheon 12:00 to 1:15 pm). \n\n\n\nSponsorship Opportunities\n\n	Title Sponsor: $5\,000\n	\n		Presentation in event program\n		Sponsorship recognition and business logo on all event materials\n		10 guests attend Sponsor Reception\n		Table for 10 guests\n	\n	\n	Event Sponsors:  $2\,500\n	\n		Sponsorship recognition and business logo on all event materials\n		6 guests attend Sponsor Reception\n		Table for 10 guests\n	\n	\n	Table Sponsors: $750\n	\n		Business logo on event program and table top\n		4 guests attend the Sponsor Reception\n		Table for 10 guests\n	\n	\n	Individual Tickets: $50\n	\n		Tickets are available by contacting the Chamber Office at 714-638-7950 or online at www.gardengrovechamber.com under the "Events Calendar" Tab\n	\n	\n\nWho Attends: CEO's and their employees\, City and State leaders\, Community leaders and residents.\n\n \n\nBenefits of Sponsoring: With more than 500 attendees last year\, the State of the City provides a great opportunity to learn about economic development\, growth and goals for the City of Garden Grove. Sponsors will be recognized in front of local leaders and elected officials.\n\n \n\nMore Information: For more information on sponsorship opportunities for this event or becoming a Chamber Corporate Sponsor to be included in this event and our other events please contact:\n\nCindy Spindle\, Chamber CEO\,\n\n714-638-7950 \n\nceo@gardengrovechamber.com\n \n\nRegister online under the "EVENTS CALENDAR" tab at www.gardengrovechamber.com
X-ALT-DESC;FMTTYPE=text/html:The State of the City Luncheon is presented by the Garden Grove Chamber of Commerce in partnership with the City of Garden Grove. The State of the City is the premier City sponsored event\, showcasing the accomplishments and the vision for the City of Garden Grove. We will have Mayor Steve Jones as our keynote speaker who will provide an overview of the key challenges and opportunities facing our community in the coming year.<br />\n&nbsp\;<br />\nJoin us in our celebration of the City of Garden Grove by becoming a sponsor for this most important business luncheon of the year. Network with elected officials\, meet community leaders\, and connect with business leaders. Your generosity supports this event as well as other Chamber events throughout the year.<br />\n<strong>(Reception 11:00 am - 12:00 pm\; Luncheon 12:00 to 1:15 pm).&nbsp\;</strong><br />\n<br />\n<strong>Sponsorship Opportunities</strong>\n<ul>\n	<li>Title Sponsor:&nbsp\;$5\,000\n	<ul>\n		<li>Presentation in event program</li>\n		<li>Sponsorship recognition and business logo on all event materials</li>\n		<li>10 guests attend Sponsor Reception</li>\n		<li>Table for 10 guests</li>\n	</ul>\n	</li>\n	<li>Event Sponsors:&nbsp\; $2\,500\n	<ul>\n		<li>Sponsorship recognition and business logo on all event materials</li>\n		<li>6 guests attend Sponsor Reception</li>\n		<li>Table for 10 guests</li>\n	</ul>\n	</li>\n	<li>Table Sponsors: $750\n	<ul>\n		<li>Business logo on event program and table top</li>\n		<li>4 guests attend the Sponsor Reception</li>\n		<li>Table for 10 guests</li>\n	</ul>\n	</li>\n	<li>Individual Tickets: $50\n	<ul>\n		<li>Tickets are available by contacting the Chamber Office at 714-638-7950 or online at&nbsp\;www.gardengrovechamber.com&nbsp\;under the &ldquo\;Events Calendar&rdquo\; Tab</li>\n	</ul>\n	</li>\n</ul>\n<strong>Who Attends:</strong> CEO&#39\;s and their employees\, City and State leaders\, Community leaders and residents.<br />\n&nbsp\;<br />\n<strong>Benefits of Sponsoring: </strong>With more than 500 attendees last year\, the State of the City provides a great opportunity to learn about economic development\, growth and goals for the City of Garden Grove. Sponsors will be recognized in front of local leaders and elected officials.<br />\n&nbsp\;<br />\n<strong>More Information:<span style="color:#FF0000\;"> For more information on sponsorship opportunities for this event or becoming a Chamber Corporate Sponsor to be included in this event and our other events please contact:</span></strong>\n\n<div style="text-align: center\;">Cindy Spindle\, Chamber CEO\,<br />\n714-638-7950&nbsp\;<br />\nceo@gardengrovechamber.com</div>\n&nbsp\;<br />\nRegister online under the &ldquo\;EVENTS CALENDAR&rdquo\; tab at www.gardengrovechamber.com
LOCATION:Embassy Suites Anaheim South 11767 Harbor Boulevard Garden Grove\, CA 92840
UID:e.1315.6233
SEQUENCE:3
DTSTAMP:20260419T145811Z
URL:http://business.gardengrovechamber.com/events/details/garden-grove-state-of-the-city-luncheon-2018-6233
END:VEVENT

END:VCALENDAR
