BEGIN:VCALENDAR
VERSION:2.0
PRODID:-//ChamberMaster//Event Calendar 2.0//EN
METHOD:PUBLISH
X-PUBLISHED-TTL:P3D
REFRESH-INTERVAL:P3D
CALSCALE:GREGORIAN
BEGIN:VEVENT
DTSTART:20150210T230000Z
DTEND:20150211T000000Z
X-MICROSOFT-CDO-ALLDAYEVENT:FALSE
SUMMARY:GGCF Committee Meeting
DESCRIPTION:GGCC Committee Meeting for Golf Classic
X-ALT-DESC;FMTTYPE=text/html:GGCC&nbsp\;Committee Meeting for Golf Classic
LOCATION:Garden Grove Chamber of Commerce 12866 Main Street\, Suite 102 Garden Grove\, CA 92840
UID:e.1315.2450
SEQUENCE:3
DTSTAMP:20260424T033046Z
URL:http://business.gardengrovechamber.com/events/details/ggcf-committee-meeting-02-10-2015-2450
END:VEVENT

END:VCALENDAR
