BEGIN:VCALENDAR
VERSION:2.0
PRODID:-//ChamberMaster//Event Calendar 2.0//EN
METHOD:PUBLISH
X-PUBLISHED-TTL:P3D
REFRESH-INTERVAL:P3D
CALSCALE:GREGORIAN
BEGIN:VEVENT
DTSTART:20150414T220000Z
DTEND:20150414T230000Z
X-MICROSOFT-CDO-ALLDAYEVENT:FALSE
SUMMARY:GGCF Committee Meeting
DESCRIPTION:GGCC Committee Meeting for Golf Classic
X-ALT-DESC;FMTTYPE=text/html:GGCC&nbsp\;Committee Meeting for Golf Classic
LOCATION:Garden Grove Chamber of Commerce 12866 Main Street\, Suite 102 Garden Grove\, CA 92840
UID:e.1315.2452
SEQUENCE:3
DTSTAMP:20260424T003258Z
URL:http://business.gardengrovechamber.com/events/details/ggcf-committee-meeting-04-14-2015-2452
END:VEVENT

END:VCALENDAR
