BEGIN:VCALENDAR
VERSION:2.0
PRODID:-//ChamberMaster//Event Calendar 2.0//EN
METHOD:PUBLISH
X-PUBLISHED-TTL:P3D
REFRESH-INTERVAL:P3D
CALSCALE:GREGORIAN
BEGIN:VEVENT
DTSTART:20130327T143000Z
DTEND:20130327T160000Z
X-MICROSOFT-CDO-ALLDAYEVENT:FALSE
SUMMARY:Good Morning Garden Grove "Social Media & Networking"
DESCRIPTION:"GOOD MORNING GARDEN GROVE" BREAKFAST PROGRAM\n\n		 \n	\n		Social Media & Networking\n\n		BRING YOUR SMART PHONE\, TABLET OR LAPTOP!\n\n		\n\n		Presented by Marc Posner\n	\n		PIO\, Cypress Community College
X-ALT-DESC;FMTTYPE=text/html:<div style="color: gray">\n	<div style="widows: 2\; text-transform: none\; background-color: rgb(255\, 255\, 255)\; text-indent: 0px\; letter-spacing: normal\; font-style: normal\; font-variant: normal\; font-weight: normal\; font-size: 13px\; line-height: normal\; font-family: arial\, sans-serif\; white-space: normal\; orphans: 2\; color: rgb(34\, 34\, 34)\; word-spacing: 0px\; -webkit-text-size-adjust: auto\; -webkit-text-stroke-width: 0px\; text-align: center\;">\n		<span style="font-size:14px\;">&quot\;GOOD MORNING GARDEN GROVE&quot\; BREAKFAST PROGRAM<br />\n		&nbsp\;</span></div>\n	<div style="widows: 2\; text-transform: none\; background-color: rgb(255\, 255\, 255)\; text-indent: 0px\; letter-spacing: normal\; font-style: normal\; font-variant: normal\; font-weight: normal\; font-size: 13px\; line-height: normal\; font-family: arial\, sans-serif\; white-space: normal\; orphans: 2\; color: rgb(34\, 34\, 34)\; word-spacing: 0px\; -webkit-text-size-adjust: auto\; -webkit-text-stroke-width: 0px\; text-align: center\;">\n		<span style="font-size:14px\;">Social Media &amp\; Networking</span><br />\n		<strong><span style="font-size:9px\;">BRING YOUR SMART PHONE\, TABLET OR LAPTOP!</span></strong><br />\n		<br />\n		Presented by Marc Posner</div>\n	<div style="widows: 2\; text-transform: none\; background-color: rgb(255\, 255\, 255)\; text-indent: 0px\; letter-spacing: normal\; font-style: normal\; font-variant: normal\; font-weight: normal\; font-size: 13px\; line-height: normal\; font-family: arial\, sans-serif\; white-space: normal\; orphans: 2\; color: rgb(34\, 34\, 34)\; word-spacing: 0px\; -webkit-text-size-adjust: auto\; -webkit-text-stroke-width: 0px\; text-align: center\;">\n		PIO\, Cypress Community College<span _fck_bookmark="1" style="display: none">&nbsp\;</span></div>\n</div>\n<br />\n
LOCATION:Anaheim Marriott Suites 12015 Harbor Blvd. Garden Grove\, CA 92840
UID:e.1315.868
SEQUENCE:3
DTSTAMP:20260425T153454Z
URL:http://business.gardengrovechamber.com/events/details/good-morning-garden-grove-social-media-networking-03-27-2013-868
END:VEVENT

END:VCALENDAR
