BEGIN:VCALENDAR
VERSION:2.0
PRODID:-//ChamberMaster//Event Calendar 2.0//EN
METHOD:PUBLISH
X-PUBLISHED-TTL:P3D
REFRESH-INTERVAL:P3D
CALSCALE:GREGORIAN
BEGIN:VEVENT
DTSTART:20151216T183000Z
DTEND:20151216T220000Z
X-MICROSOFT-CDO-ALLDAYEVENT:FALSE
SUMMARY:Grand Opening and Ribbon Cutting
DESCRIPTION:American Renewable Technologies\, a new company in Garden Grove\, is having their Grand Opening and Ribbon Cutting Wednesday\, December 16\, 2015!
X-ALT-DESC;FMTTYPE=text/html:American Renewable Technologies\, a new company in Garden Grove\, is having their Grand Opening and Ribbon Cutting Wednesday\, December 16\, 2015!&nbsp\;&nbsp\;&nbsp\;&nbsp\;&nbsp\;&nbsp\;&nbsp\;&nbsp\;&nbsp\;&nbsp\;&nbsp\;&nbsp\;&nbsp\;&nbsp\;&nbsp\;&nbsp\;&nbsp\;&nbsp\;&nbsp\;&nbsp\;
LOCATION:American Renewable Technologies 10781 Forbes Avenue Garden Grove\, CA
UID:e.1315.4964
SEQUENCE:3
DTSTAMP:20260423T115121Z
URL:http://business.gardengrovechamber.com/events/details/grand-opening-and-ribbon-cutting-12-16-2015-4964
END:VEVENT

END:VCALENDAR
