BEGIN:VCALENDAR
VERSION:2.0
PRODID:-//ChamberMaster//Event Calendar 2.0//EN
METHOD:PUBLISH
X-PUBLISHED-TTL:P3D
REFRESH-INTERVAL:P3D
CALSCALE:GREGORIAN
BEGIN:VEVENT
DTSTART:20170107T160000Z
DTEND:20170108T000000Z
X-MICROSOFT-CDO-ALLDAYEVENT:FALSE
SUMMARY:Grand Opening for Design A Smile
DESCRIPTION:Join Design A Smile January 6 & 7 for free cleanings All Day. Please schedule an appointment by 1/5/17\n\n\n\nProviding Dental Care for the entire family\n\nMedical billing for surgical procedures and sleep apnea\n\nImplant\, Cosmetics & Family Dentistry\n\nWe also speak Spanish and Vietnamese\n\nWeekend appointments available\n\nFinancial Options Available
X-ALT-DESC;FMTTYPE=text/html:Join Design A Smile January 6 &amp\; 7 for free cleanings All Day. Please schedule an appointment by 1/5/17<br />\n<br />\nProviding Dental Care for the entire family<br />\nMedical billing for surgical procedures and sleep apnea<br />\nImplant\, Cosmetics &amp\; Family Dentistry<br />\nWe also speak Spanish and Vietnamese<br />\nWeekend appointments available<br />\nFinancial Options Available
LOCATION:10722 Katella Avenue #2 Garden Grove/Anaheim\, CA 92804
UID:e.1315.6049
SEQUENCE:3
DTSTAMP:20260420T090102Z
URL:http://business.gardengrovechamber.com/events/details/grand-opening-for-design-a-smile-6049
END:VEVENT

END:VCALENDAR
