BEGIN:VCALENDAR
VERSION:2.0
PRODID:-//ChamberMaster//Event Calendar 2.0//EN
METHOD:PUBLISH
X-PUBLISHED-TTL:P3D
REFRESH-INTERVAL:P3D
CALSCALE:GREGORIAN
BEGIN:VEVENT
DTSTART:20130315T003000Z
DTEND:20130315T023000Z
X-MICROSOFT-CDO-ALLDAYEVENT:FALSE
SUMMARY:Grand Opening: QTD International\, LLC
DESCRIPTION:Ribbon Cutting Ceremony
X-ALT-DESC;FMTTYPE=text/html:Ribbon Cutting Ceremony
LOCATION:12912 Brookhust Ave\, Ste 375 Garden Grove\, CA 92840
UID:e.1315.1170
SEQUENCE:3
DTSTAMP:20260425T154342Z
URL:http://business.gardengrovechamber.com/events/details/grand-opening-qtd-international-llc-03-14-2013-1170
END:VEVENT

END:VCALENDAR
