BEGIN:VCALENDAR
VERSION:2.0
PRODID:-//ChamberMaster//Event Calendar 2.0//EN
METHOD:PUBLISH
X-PUBLISHED-TTL:P3D
REFRESH-INTERVAL:P3D
CALSCALE:GREGORIAN
BEGIN:VEVENT
DTSTART:20170602T220000Z
DTEND:20170602T230000Z
X-MICROSOFT-CDO-ALLDAYEVENT:FALSE
SUMMARY:Grand Opening/Ribbon Cutting for Bruster's Real Ice Cream
DESCRIPTION:Please join the Garden Grove Chamber of Commerce in welcoming Bruster's Real Ice Cream at their Grand Opening/Ribbon Cutting Ceremony! The ceremony rakes place Friday\, June 2\, 2017 at 3:00 pm. Refreshments will be provided. Please RSVP for this event.
X-ALT-DESC;FMTTYPE=text/html:Please join the Garden Grove Chamber of Commerce in welcoming Bruster&#39\;s Real Ice Cream at their Grand Opening/Ribbon Cutting Ceremony! The ceremony rakes place Friday\, June 2\, 2017 at 3:00 pm. Refreshments will be provided. Please RSVP for this event.&nbsp\;&nbsp\;&nbsp\;&nbsp\;&nbsp\;&nbsp\;&nbsp\;&nbsp\;&nbsp\;
LOCATION:Bruster's Real Ice Cream 12879 Harbor Boulevard\, N-3 Garden Grove\, CA 92840
UID:e.1315.6156
SEQUENCE:3
DTSTAMP:20260420T013207Z
URL:http://business.gardengrovechamber.com/events/details/grand-opening-ribbon-cutting-for-bruster-s-real-ice-cream-6156
END:VEVENT

END:VCALENDAR
