BEGIN:VCALENDAR
VERSION:2.0
PRODID:-//ChamberMaster//Event Calendar 2.0//EN
METHOD:PUBLISH
X-PUBLISHED-TTL:P3D
REFRESH-INTERVAL:P3D
CALSCALE:GREGORIAN
BEGIN:VEVENT
DTSTART:20170607T190000Z
DTEND:20170607T210000Z
X-MICROSOFT-CDO-ALLDAYEVENT:FALSE
SUMMARY:Grand Opening/Ribbon Cutting for Morningside Recovery
DESCRIPTION:Join the Garden Grove Chamber of Commerce in welcoming Morningside Recovery at their Ribbon Cutting Ceremony!\n\n\n\nMorningside's new 33\,000 sq. ft. clinical pavilion will feature the latest in addiction and mental health treatment. Enjoy complimentary lunch and refreshments\, meet the Morningside team\, and enter the best raffle giveaway. \n\n\n\nPlease RSVP for this event.
X-ALT-DESC;FMTTYPE=text/html:Join the Garden Grove Chamber of Commerce in welcoming Morningside Recovery at their Ribbon Cutting Ceremony!<br />\n<br />\nMorningside&#39\;s new 33\,000 sq. ft. clinical pavilion will feature the latest in addiction and mental health treatment. Enjoy complimentary lunch and refreshments\, meet the Morningside team\, and enter the best raffle giveaway.&nbsp\;<br />\n<br />\nPlease RSVP for this event.&nbsp\;
LOCATION:Morningside Recovery 9842 13th Street Garden Grove\, CA 92844
UID:e.1315.6161
SEQUENCE:3
DTSTAMP:20260420T013158Z
URL:http://business.gardengrovechamber.com/events/details/grand-opening-ribbon-cutting-for-morningside-recovery-6161
END:VEVENT

END:VCALENDAR
