BEGIN:VCALENDAR
VERSION:2.0
PRODID:-//ChamberMaster//Event Calendar 2.0//EN
METHOD:PUBLISH
X-PUBLISHED-TTL:P3D
REFRESH-INTERVAL:P3D
CALSCALE:GREGORIAN
BEGIN:VEVENT
DTSTART:20171215T193000Z
DTEND:20171215T213000Z
X-MICROSOFT-CDO-ALLDAYEVENT:FALSE
SUMMARY:Great Wolf Lodge Holiday Party
DESCRIPTION:Let the Great Wolf Lodge of Southern California host your Holiday Part!\n\n\n\nCelebrate the season with a festive holiday lunch buffet\, a premium cash bar\, live music\, prize drawings\, photo booth\, holiday decor and a visit from Santa. \n\n\n\nReserve a couple of seats or a table for 10 for your company holiday outing. \n\n\n\nLunch reservations include up to two water park passes per person.
X-ALT-DESC;FMTTYPE=text/html:Let the Great Wolf Lodge of Southern California host your Holiday Part!<br />\n<br />\nCelebrate the season with a festive holiday lunch buffet\, a premium cash bar\, live music\, prize drawings\, photo booth\, holiday decor and a visit from Santa.&nbsp\;<br />\n<br />\nReserve a couple of seats or a table for 10 for your company holiday outing.&nbsp\;<br />\n<br />\nLunch reservations include up to two water park passes per person.&nbsp\;
LOCATION:Great Wolf Lodge So Cal 12681 Harbor Boulevard Garden Grove\, CA 92840
UID:e.1315.6236
SEQUENCE:3
DTSTAMP:20260419T163244Z
URL:http://business.gardengrovechamber.com/events/details/great-wolf-lodge-holiday-party-6236
END:VEVENT

END:VCALENDAR
