BEGIN:VCALENDAR
VERSION:2.0
PRODID:-//ChamberMaster//Event Calendar 2.0//EN
METHOD:PUBLISH
X-PUBLISHED-TTL:P3D
REFRESH-INTERVAL:P3D
CALSCALE:GREGORIAN
BEGIN:VEVENT
DTSTART:20140521T173000Z
DTEND:20140521T190000Z
X-MICROSOFT-CDO-ALLDAYEVENT:FALSE
SUMMARY:Great Wolf Lodge Southern California Ground Breaking Ceremony
DESCRIPTION:Come join us for the Ground Breaking Ceremony for the new water park resort\, Great Wolf Lodge Southern California.
X-ALT-DESC;FMTTYPE=text/html:Come join us for the Ground Breaking Ceremony for the new water park resort\, Great Wolf Lodge Southern California.
LOCATION:Great Wolf Lodge Southern California 12681 Harbor Blvd. Garden Grove\, CA 92840
UID:e.1315.1753
SEQUENCE:3
DTSTAMP:20260424T160434Z
URL:http://business.gardengrovechamber.com/events/details/great-wolf-lodge-southern-california-ground-breaking-ceremony-05-21-2014-1753
END:VEVENT

END:VCALENDAR
