BEGIN:VCALENDAR
VERSION:2.0
PRODID:-//ChamberMaster//Event Calendar 2.0//EN
METHOD:PUBLISH
X-PUBLISHED-TTL:P3D
REFRESH-INTERVAL:P3D
CALSCALE:GREGORIAN
BEGIN:VEVENT
DTSTART:20171215T010000Z
DTEND:20171215T030000Z
X-MICROSOFT-CDO-ALLDAYEVENT:FALSE
SUMMARY:H.O.P.E. Christmas Open House
DESCRIPTION:H.O.P.E. Annual Open House\n\n\n\nLet's Celebrate Christmas!\n\n\n\nPlease join us for our Annual Open House on December 14th from 5:00 pm to 7:00 pm. Food\, Drinks\, and Music by out students and professionals will be provided. If  you wish to sponsor a toy for a child\, please bring it unwrapped.
X-ALT-DESC;FMTTYPE=text/html:H.O.P.E. Annual Open House<br />\n<br />\nLet&#39\;s Celebrate Christmas!<br />\n<br />\nPlease join us for our Annual Open House on December 14th from 5:00 pm to 7:00 pm. Food\, Drinks\, and Music by out students and professionals will be provided. If&nbsp\; you wish to sponsor a toy for a child\, please bring it unwrapped.&nbsp\;
LOCATION:H.O.P.E. 11022 Acacia Parkway Garden Grove\, CA 92840
UID:e.1315.6251
SEQUENCE:3
DTSTAMP:20260419T163249Z
URL:http://business.gardengrovechamber.com/events/details/h-o-p-e-christmas-open-house-6251
END:VEVENT

END:VCALENDAR
