BEGIN:VCALENDAR
VERSION:2.0
PRODID:-//ChamberMaster//Event Calendar 2.0//EN
METHOD:PUBLISH
X-PUBLISHED-TTL:P3D
REFRESH-INTERVAL:P3D
CALSCALE:GREGORIAN
BEGIN:VEVENT
DTSTART:20151112T180000Z
DTEND:20151112T210000Z
X-MICROSOFT-CDO-ALLDAYEVENT:FALSE
SUMMARY:Harvest Health Fair
DESCRIPTION:Hosted by Orangegrove Rehabilitation Hospital\n\n\n\n"Come tour\, meet our employees\, learn about community healthcare resources\, enjoy hot dogs & refreshments on us (while supplies last!)... And much more!!!
X-ALT-DESC;FMTTYPE=text/html:Hosted by Orangegrove Rehabilitation Hospital<br />\n<br />\n&quot\;Come tour\, meet our employees\, learn about community healthcare resources\, enjoy hot dogs &amp\; refreshments on us (while supplies last!)... And much more!!!
LOCATION:12332 Garden Grove Blvd\, Garden Grove\, CA 92843
UID:e.1315.4703
SEQUENCE:3
DTSTAMP:20260423T133857Z
URL:http://business.gardengrovechamber.com/events/details/harvest-health-fair-11-12-2015-4703
END:VEVENT

END:VCALENDAR
