BEGIN:VCALENDAR
VERSION:2.0
PRODID:-//ChamberMaster//Event Calendar 2.0//EN
METHOD:PUBLISH
X-PUBLISHED-TTL:P3D
REFRESH-INTERVAL:P3D
CALSCALE:GREGORIAN
BEGIN:VEVENT
DTSTART:20170328T190000Z
DTEND:20170328T210000Z
X-MICROSOFT-CDO-ALLDAYEVENT:FALSE
SUMMARY:Healthy Smiles for Kids of OC Expansion Ribbon Cutting 3-28-17
DESCRIPTION:Please join us for a Ribbon Cutting Ceremony to celebrate Healthy Smiles for Kids of Orange County's expansion. \n\n\n\nHor D'Oeuvres and drinks will be served
X-ALT-DESC;FMTTYPE=text/html:Please join us for a Ribbon Cutting Ceremony to celebrate Healthy Smiles for Kids of Orange County&#39\;s expansion.&nbsp\;<br />\n<br />\nHor D&#39\;Oeuvres and drinks will be served
LOCATION:10602 Chapman Avenue Suite 200 Garden Grove\, CA 92840
UID:e.1315.6071
SEQUENCE:3
DTSTAMP:20260420T061900Z
URL:http://business.gardengrovechamber.com/events/details/healthy-smiles-for-kids-of-oc-expansion-ribbon-cutting-3-28-17-6071
END:VEVENT

END:VCALENDAR
