BEGIN:VCALENDAR
VERSION:2.0
PRODID:-//ChamberMaster//Event Calendar 2.0//EN
METHOD:PUBLISH
X-PUBLISHED-TTL:P3D
REFRESH-INTERVAL:P3D
CALSCALE:GREGORIAN
BEGIN:VEVENT
DTSTART:20171022T010000Z
DTEND:20171022T050000Z
X-MICROSOFT-CDO-ALLDAYEVENT:FALSE
SUMMARY:Healthy Smiles Gala
DESCRIPTION:Please join us for the Healthy Smiles Gala. \n\n\n\nThe Evening will feature: \n\n	Dinner\n	Live and Silent Auction\n	Entertain and more!\n\n\nCocktail Attire\n\n\n\n$150 per ticket\n\n\n\nSponsorship Opportunities:\n\n\n	Platinum Sponsor - $5\,000\n	\n		20 dinner tickets (2 tables)\n		10 raffle tickets\n		Gala program recognition\n		Web\, social\, and PR recognition\n		Full page color ad\n		Onstage recognition\n		Booth at registration\n	\n	\n	Gold Sponsor - $2\,500\n	\n		10 dinner tickets (1 table)\n		5 raffle tickets\n		Gala program recognition\n		Web\, social\, and PR recognition\n		Half page color ad\n	\n	\n	Silver Sponsor - $1\,000\n	\n		4 dinner tickets\n		2 raffle tickets\n		Gala program recognition\n		Web and social recognition\n	\n	\n	Bronze Sponsor - $500\n	\n		2 dinner tickets\n		1 raffle ticket\n		Web and social recognition
X-ALT-DESC;FMTTYPE=text/html:Please join us for the Healthy Smiles Gala.&nbsp\;<br />\n<br />\nThe Evening will feature:&nbsp\;\n<ul>\n	<li>Dinner</li>\n	<li>Live and Silent Auction</li>\n	<li>Entertain and more!</li>\n</ul>\n\n<p>Cocktail Attire<br />\n<br />\n$150 per ticket<br />\n<br />\nSponsorship Opportunities:</p>\n\n<ul>\n	<li>Platinum Sponsor - $5\,000\n	<ul>\n		<li>20 dinner tickets (2 tables)</li>\n		<li>10 raffle tickets</li>\n		<li>Gala program recognition</li>\n		<li>Web\, social\, and PR recognition</li>\n		<li>Full page color ad</li>\n		<li>Onstage recognition</li>\n		<li>Booth at registration</li>\n	</ul>\n	</li>\n	<li>Gold Sponsor - $2\,500\n	<ul>\n		<li>10 dinner tickets (1 table)</li>\n		<li>5 raffle tickets</li>\n		<li>Gala program recognition</li>\n		<li>Web\, social\, and PR recognition</li>\n		<li>Half page color ad</li>\n	</ul>\n	</li>\n	<li>Silver Sponsor - $1\,000\n	<ul>\n		<li>4 dinner tickets</li>\n		<li>2 raffle tickets</li>\n		<li>Gala program recognition</li>\n		<li>Web and social recognition</li>\n	</ul>\n	</li>\n	<li>Bronze Sponsor - $500\n	<ul>\n		<li>2 dinner tickets</li>\n		<li>1 raffle ticket</li>\n		<li>Web and social recognition</li>\n	</ul>\n	</li>\n</ul>\n
LOCATION:Bowers Museum Santa Ana\, CA
UID:e.1315.6178
SEQUENCE:3
DTSTAMP:20260419T193109Z
URL:http://business.gardengrovechamber.com/events/details/healthy-smiles-gala-6178
END:VEVENT

END:VCALENDAR
