BEGIN:VCALENDAR
VERSION:2.0
PRODID:-//ChamberMaster//Event Calendar 2.0//EN
METHOD:PUBLISH
X-PUBLISHED-TTL:P3D
REFRESH-INTERVAL:P3D
CALSCALE:GREGORIAN
BEGIN:VEVENT
DTSTART:20180223T000000Z
DTEND:20180223T050000Z
X-MICROSOFT-CDO-ALLDAYEVENT:FALSE
SUMMARY:Heartfelt Cardiac Screening
DESCRIPTION:Cardiac Screening: Thursday\, February 22\, 2018\n\nStop Sudden Cardiac Arrest (SCA) | Have your Student/Athlete and Family Screened\n\n\n\nSudden Cardiac Arrest (SCA) is the #1 killer of Americans \n\nA Young Athlete Dies from SCA every 3 days\n\nSCA is the #1 Killer of Women\n\nSCA kills 450\,000 Annually\n\n\n\nProudly Sponsored by:\n\nPacifica High School PTA is hosting this reduced cost screening to benefit students\, families\, and the community. \n\n\n\nHeartfelt Cardiac Projects is offering cardiac screenings for a donation to Heartfelt of $85 per person\, from ages 5 and up
X-ALT-DESC;FMTTYPE=text/html:Cardiac Screening: Thursday\, February 22\, 2018<br />\nStop Sudden Cardiac Arrest&nbsp\;(SCA) | Have your Student/Athlete and Family Screened<br />\n<br />\nSudden Cardiac Arrest (SCA) is the #1 killer of Americans&nbsp\;<br />\nA Young Athlete Dies from SCA every 3 days<br />\nSCA&nbsp\;is the #1 Killer of Women<br />\nSCA&nbsp\;kills 450\,000 Annually<br />\n<br />\nProudly Sponsored by:<br />\nPacifica High School PTA is hosting this reduced cost screening to benefit students\, families\, and the community.&nbsp\;<br />\n<br />\nHeartfelt Cardiac Projects is offering cardiac screenings for a donation to Heartfelt of $85 per person\, from ages 5 and up&nbsp\;&nbsp\;&nbsp\;&nbsp\;
LOCATION:Pacifica High School in the Cafeteria 6851 Lampson Avenue Garden Grove\, CA 92845
UID:e.1315.6272
SEQUENCE:3
DTSTAMP:20260419T132255Z
URL:http://business.gardengrovechamber.com/events/details/heartfelt-cardiac-screening-6272
END:VEVENT

END:VCALENDAR
