BEGIN:VCALENDAR
VERSION:2.0
PRODID:-//ChamberMaster//Event Calendar 2.0//EN
METHOD:PUBLISH
X-PUBLISHED-TTL:P3D
REFRESH-INTERVAL:P3D
CALSCALE:GREGORIAN
BEGIN:VEVENT
DTSTART:20160427T130000Z
DTEND:20160428T190000Z
X-MICROSOFT-CDO-ALLDAYEVENT:FALSE
SUMMARY:i oc Giving Day
DESCRIPTION:The Orange County Community Foundation is super-charging local giving by hosting the second annual i oc Giving Day from 6 a.m. April 27 through noon April 28\, 2016. It's 30 hours to give where your heart lives. Secure\, tax-deductible donations will be accepted on iheartoc.org only. Participating Orange County nonprofits will be eligible to receive funding through bonus awards and prizes provided by OCCF and Giving Day partners. \n\n\n\nThe goal of i oc Giving Day is to inspire our community to come together with extra-mile giving in support of the exemplary work of local nonprofits. In 2015\, more than $1.8 million was raised for 347 participating nonprofits across Orange County. In 2016\, OCCF aims to exceed last year's results\, and will once again provide a bonus fund and prizes to grow the impact of donations made on Giving Day. Let's come together to show Orange County nonprofits how much we care!
X-ALT-DESC;FMTTYPE=text/html:<span style="font-size:12px\;"><span style="font-family:arial\;"><span style="color:#000000\;"><span style="line-height: 20px\;">The Orange County Community Foundation is super-charging local giving by hosting the second annual i&#10084\;oc Giving Day from 6 a.m. April 27 through noon April 28\, 2016. It&#39\;s 30 hours to give where your heart lives. Secure\, tax-deductible donations will be accepted on&nbsp\;</span></span><a href="http://iheartoc.org/" rel="nofollow" style="box-sizing: border-box\; color: rgb(188\, 38\, 93)\; font-family: Calibri\, Candara\, Segoe\, 'Segoe UI'\, Optima\, Arial\, sans-serif\; font-size: 14px\; line-height: 20px\;" target="_blank"><span style="color:#000000\;">iheartoc.org</span></a><span style="color:#000000\;"><span style="line-height: 20px\;">&nbsp\;only. Participating Orange County nonprofits will be eligible to receive funding through bonus awards and prizes provided by OCCF and Giving Day partners.&nbsp\;<br />\n<br />\nThe goal of i&#10084\;oc Giving Day is to inspire our community to come together with extra-mile giving in support of the exemplary work of local nonprofits. In 2015\, more than $1.8 million was raised for 347 participating nonprofits across Orange County. In 2016\, OCCF aims to exceed last year&rsquo\;s results\, and will once again provide a bonus fund and prizes to grow the impact of donations made on Giving Day. Let&#39\;s come together to show Orange County nonprofits how much we care!</span></span></span></span>
LOCATION:iheartoc.org
UID:e.1315.5129
SEQUENCE:3
DTSTAMP:20260420T231545Z
URL:http://business.gardengrovechamber.com/events/details/i-10084-oc-giving-day-04-27-2016-5129
END:VEVENT

END:VCALENDAR
