BEGIN:VCALENDAR
VERSION:2.0
PRODID:-//ChamberMaster//Event Calendar 2.0//EN
METHOD:PUBLISH
X-PUBLISHED-TTL:P3D
REFRESH-INTERVAL:P3D
CALSCALE:GREGORIAN
BEGIN:VEVENT
DTSTART:20170227T160000Z
DTEND:20170227T200000Z
X-MICROSOFT-CDO-ALLDAYEVENT:FALSE
SUMMARY:Import Compliance Training Program
DESCRIPTION:6 Week Training\n\nMondays (February 27 - April 3\, 2017)\n\nJoin us for an Import Compliance practitioner's course\, which walks participants through all aspects of import compliance. This hands-on workshop covers the nuts and bolts of importing\, including HTS classification\, demonstrating reasonable care\, Free Trade Agreements\, C-TPAT\,how to implement your own compliance program\, and so much more. Whether you are new to your role of dealing with import compliance at your company\, or need a refresher\, this robust course will teach you the basics and keep you up to date on your responsibilities as an importer. For more information and to register visit: https://goo.gl/HyKRn
X-ALT-DESC;FMTTYPE=text/html:6 Week Training<br />\nMondays (February 27 - April 3\, 2017)<br />\nJoin us for an Import Compliance practitioner&#39\;s course\, which walks participants through all aspects of import compliance. This hands-on workshop covers the nuts and bolts of importing\, including HTS classification\, demonstrating reasonable care\, Free Trade Agreements\, C-TPAT\,how to implement your own compliance program\, and so much more. Whether you are new to your role of dealing with import compliance at your company\, or need a refresher\, this robust course will teach you the basics and keep you up to date on your responsibilities as an importer. For more information and to register visit: https://goo.gl/HyKRn
LOCATION:Rancho Santiago Community College District 2323 N. Broadway #107\, Santa Ana 92706
UID:e.1315.6072
SEQUENCE:3
DTSTAMP:20260420T073127Z
URL:http://business.gardengrovechamber.com/events/details/import-compliance-training-program-6072
END:VEVENT

END:VCALENDAR
